BEGIN:VCALENDAR
VERSION:2.0
PRODID:-//BHAK Wien 22 - ECPv5.16.4//NONSGML v1.0//EN
CALSCALE:GREGORIAN
METHOD:PUBLISH
X-WR-CALNAME:BHAK Wien 22
X-ORIGINAL-URL:https://www.bhakwien22.at
X-WR-CALDESC:Veranstaltungen für BHAK Wien 22
REFRESH-INTERVAL;VALUE=DURATION:PT1H
X-Robots-Tag:noindex
X-PUBLISHED-TTL:PT1H
BEGIN:VTIMEZONE
TZID:Europe/Vienna
BEGIN:DAYLIGHT
TZOFFSETFROM:+0100
TZOFFSETTO:+0200
TZNAME:CEST
DTSTART:20260329T010000
END:DAYLIGHT
BEGIN:STANDARD
TZOFFSETFROM:+0200
TZOFFSETTO:+0100
TZNAME:CET
DTSTART:20261025T010000
END:STANDARD
END:VTIMEZONE
BEGIN:VEVENT
DTSTART;TZID=Europe/Vienna:20260129T083000
DTEND;TZID=Europe/Vienna:20260129T083000
DTSTAMP:20260419T160746
CREATED:20250904T080136Z
LAST-MODIFIED:20250904T080136Z
UID:14933-1769675400-1769675400@www.bhakwien22.at
SUMMARY:Kompensationsprüfungen (Wintertermin)
DESCRIPTION:
URL:https://www.bhakwien22.at/termin/kompensationspruefungen-wintertermin-2/
END:VEVENT
BEGIN:VEVENT
DTSTART;TZID=Europe/Vienna:20260129T100000
DTEND;TZID=Europe/Vienna:20260129T123000
DTSTAMP:20260419T160746
CREATED:20251110T083207Z
LAST-MODIFIED:20251110T083207Z
UID:15255-1769680800-1769689800@www.bhakwien22.at
SUMMARY:Reinschnuppern & Austauschen
DESCRIPTION:Reinschnuppern & Austauschen:\nBesuch von PädagogInnen aus anderen Schulen\, organisiert von PH Wien\, Schule im Aufbruch & Education Lab \nAnmeldung: https://www.edlab.at/events/reinschnuppern-austauschen/
URL:https://www.bhakwien22.at/termin/reinschnuppern-austauschen/
LOCATION:BHAK Wien 22\, Polgarstraße 24\, Wien\, 1220\, Österreich
END:VEVENT
BEGIN:VEVENT
DTSTART;TZID=Europe/Vienna:20260129T160000
DTEND;TZID=Europe/Vienna:20260129T173000
DTSTAMP:20260419T160746
CREATED:20251110T082416Z
LAST-MODIFIED:20251110T082416Z
UID:15252-1769702400-1769707800@www.bhakwien22.at
SUMMARY:Vortrag: „MitWirken – Wie du die Welt zum Guten bewegst“
DESCRIPTION:Die Veranstaltung ist als Vortrag mit anschließender Diskussion gestaltet – eine lebendige Mischung aus Gespräch\, Austausch und Inspiration. Im Mittelpunkt steht das Thema Social Entrepreneurship und wie wir alle mitwirken und Positives für unserer Gesellschaft bewirken können.\n\nVortragender: Andreas Ambros-Lechner hat Wirtschaft und Politik studiert\, das Social Business Sindbad (Chancenproduktion für junge Menschen) gegründet und setzt sich seit sechs Jahren als Generalsekretär der MEGA Bildungsstiftung für mehr Bildungsinnovationen und -gerechtigkeit in Österreich ein.
URL:https://www.bhakwien22.at/termin/vortrag-mitwirken-wie-du-die-welt-zum-guten-bewegst/
LOCATION:BHAK Wien 22\, Polgarstraße 24\, Wien\, 1220\, Österreich
END:VEVENT
END:VCALENDAR